Workbook
Name _gjdgxs: Formato_RFC!#REF!
Name Afectacion: '[1]Matriz impacto-riesgo'!$R$13:$R$15
Name Aplicaciones: '[1]Matriz impacto-riesgo'!$R$25:$R$28
Name Complejidad: '[1]Matriz impacto-riesgo'!$R$10:$R$12
Name Experienciacambios: '[1]Matriz impacto-riesgo'!$R$4:$R$6
Name Externos: '[1]Matriz impacto-riesgo'!$R$16:$R$17
Name Impacto: [2]Parametros!$C$15:$C$19
Name Implementacion: '[1]Matriz impacto-riesgo'!$R$18:$R$20
Name Probabilidad: [2]Parametros!$C$7:$C$11
Name Servicios: '[1]Matriz impacto-riesgo'!$R$21:$R$24
Name Tipo: '[2]Matriz de Impacto'!$P$6:$P$9

Sheet Instructivo
B1: INSTRUCTIVO | E1: CÓDIGO | G1: F-GIG-001
B2: FORMATO REQUERIMIENTO DE CAMBIOS DE TECNOLOGÍAS DE INFORMACIÓN | E2: VERSIÓN | G2: 2
E3: CLASIFICACIÓN DE LA INFORMACIÓN | G3: PÚBLICA
A5: INSTRUCTIVO DE DILIGENCIAMIENTO RFC - CAMBIOS TECNOLÓGICOS
A6: No. | B6: CAMPO | C6: INFORMACIÓN QUE DEBE CONTENER
A7: 1. INFORMACIÓN GENERAL - REGISTRO
A8: 1.1. | B8: Nro. RFC | C8: Diligenciar el registro de acuerdo al número consecutivo para el registro de la solicitud de cambio. RFC: Formato Solicitud Cambio (Request For Change).
A9: 1.2. | B9: Fecha de Solicitud | C9: Diligenciar la fecha en la que se solicita el cambio.
A10: 1.3. | B10: Estado del Cambio | C10: Diligenciar el estado del control de cambios: Activo: Control de cambios que se encuentra pendiente de ejecución En Ejecución: Cambio aprobado y en ejecucción de actividades Cerrado: Cambio finalizado, documentado, las evidencias en el repositorio asignado y con cierre aprobado
A11: 1.4. | B11: No. de Incidencia Asignado | C11: Diligenciar el registro de acuerdo al número de incidencia generado en iTOP para el registro de la solicitud de cambio.
A12: 1.5. | B12: Tipo de Categoria de Cambio | C12: Diligenciar el tipo de cambio para los cambios de infraestructura Tecnológica y/o Funcional para los sistemas de información o aplicaciones del SGC. TECNOLÓGICO - INFRAESTRUCTURA TI: Cambios relacionados con el Hardware y Software en los ambientes Tecnologicos del SGC. FUNCIONAL - SISTEMAS DE INFORMACIÓN SGC: Cambios relacionados con el Software en los ambientes Tecnologicos del SGC.
A13: 1.6. | B13: Nombre del Servicio de TI | C13: Diligenciar el nombre(s) del Servicio(s) para la solicitud de contol de cambios de acuerdo con el Catálogo de Servicios de TI.
A14: 1.6.1. | B14: Código del Servicio de TI | C14: Diliigenciar el ID o Código único del servicios de TI de acuerdo con el Catálogo de Servicios de TI
A15: 1.7. | B15: Nombre Sistema de Información o Aplicación(es): | C15: Diligenciar eln nombre Sistema de Información o Aplicación(es) que se realizará el contol de cambios de acuerdo con el catálogo de aplicaciones.
A16: 1.7.1 | B16: ID. Sistema de Información: | C16: Diligenciar el ID del Sistema de Información o Aplicación(es) que se realizará el contol de cambios de acuerdo con el catálogo de aplicaciones.
A17: 1.8. | B17: DATOS DEL SOLICITANTE | C17: Diligenciar los campos del solicitante del Control de Cambios.
A18: 1.8.1. | B18: Nombre del Solicitante / Requerido por: | C18: Diligenciar el nombre del colaborador que solicita el Control de Cambios.
A19: 1.8.2. | B19: Rol del solicitante | C19: Diligencie el rol que desempeña en solicitante en el SGC. Ejemplo: Administrador de Bases de Datos; Administrador de infraestructura de redes y conectividad, Desarrollador SI
... A26: 1.8.9. | B26: Teléfono - Celular: | C26: Diligenciar el número de Celular o Teléfono del solicitante del Control de Cambios.
A27: 1.9. | B27: RECURSO HUMANO RESPONSABLE DEL CAMBIO
A28: 1.9.1. | B28: Líder de cambio: | C28: Diligenciar el nombre, cargo o rol, Correo institucional y teléfono de contacto del Líder del Cambio
A29: 1.9.2. | B29: Implementador(es) del cambio - Infraestructura TI: | C29: Diligenciar el nombre o nombres, cargo o rol, Correo institucional y teléfono de contacto del implementador o implementadores del cambio - Infraestructura TI (pueden participar varias personas en la implementación del cambio, deben incluirse todas con sus respectivos datos). Si el cambio no se relaciona con Infraestructura TI debe diligenciar N/A
A30: 1.9.3. | B30: Implementador (es) del cambio Sistemas de Información: | C30: Diligenciar el nombre o nombres, cargo o rol, Correo institucional y teléfono de contacto del implementador o implementadores del cambio - Sistemas de Información (pueden participar varias personas en la implementación del cambio, deben incluirse todas con sus respectivos datos). Si el cambio no se relaciona con Sistemas de Información, debe diligenciar N/A
A31: 1.9.4. | B31: Funcional o dueño aplicativo misional - apoyo: | C31: Diligenciar el nombre o nombres, cargo o rol, Correo institucional y teléfono de contacto del iFuncional o dueño aplicativo misional - apoyo. Si el cambio no se relaciona con Aplicativo Misiona - Apoyo, debe diligenciar N/A
A32: 1.10. | B32: GESTIÓN DEL CONTROL CAMBIOS TECNOLÓGICOS
A33: 1.10.1. | B33: Tipo de Cambio: | C33: Diligenciar el Tipo el Control de Cambios. CAMBIO ESTÁNDAR: Son cambios de bajo riesgo, bien documentados y de bajo impacto que siguen un proceso predefinido y aprobado. Ejemplo: Reemplazar el cartucho de tinta de una impresora o instalar una aplicación comercial en una PC que cumple con los estándares. CAMBIO NORMAL: Requieren una evaluación formal del riesgo y una autorización, ya que conllevan un mayor grado de riesgo o complejidad. Este tipo de cambio abarca tanto los menores (bajo a medio impacto y urgencia) como los mayores (alto impacto y urgencia), los cuales pueden incluir un retorno de la inversión significativo. Ejemplo: Mover servicios en las instalaciones a la nube o una actualización de un portal interno. CAMBIO EMERGENCIA: Se aplican en situaciones críticas o inesperadas, como fallas de un servidor o una vulnerabilidad de seguridad. Requieren una acción y aprobación rápidas para restaurar los servicios lo antes posible, a menudo evitando algunos pasos del proceso estándar para agilizar la implementación. Ejemplo: Implementar un parche de seguridad crítico o responder a una interrupción del centro de datos.
A34: 1.10.2. | B34: Objetivo del Cambio: | C34: Describir el objetivo del cambio.
A35: 1.10.3. | B35: Justificación del Cambio: | C35: Describir la justificación el porqué del control de cambio.
A36: 1.10.4. | B36: Descripción del Cambio: | C36: Describir gerencialmente el control de cambio.
A37: 1.10.5. | B37: Situación actual y razón del cambio: | C37: Descripción Especificación detallada del cambio (Técnica y Funcional) Nota: Si el cambio implica adicionalmente el ajuste y/o creación de nuevos roles y accesos, detallar.
A38: 2. ETAPA DE PLANIFICACIÓN Y EVALUACIÓN DEL CAMBIO DE TI
A39: 2.1. | B39: Servicios TI e Infraestructura afectados: | C39: Listar los servicios que se verían afectados con la ejecución del cambio (Ejemplo: Portal web, Correo electrónico, etc.)
A40: 2.2. | B40: ¿Afecta la Disponibilidad? | C40: Seleccionar SI, en caso de que el cambio afecte la disponibilidad del servicio involucrado o NO, en caso contrario.
A41: 2.3. | B41: ¿Habrá Intermitencia? | C41: Seleccionar SI, en caso de que el cambio genere intermitencia del servicio involucrado o NO, en caso contrario.
A42: 2.4. | B42: ¿Requiere ejecutar plan de pruebas? | C42: Seleccionar SI, en caso de requerir ejecutar plan de pruebas o NO, en caso de no requerir la ejecución del plan de pruebas
A43: 2.5. | B43: ¿Se requiere comunicar a usuarios interesados? | C43: Seleccionar SI, en caso de requerir comunicar sobre la ejecución del cambio a usuarios interesados o NO, en caso de no requerirlo
A44: 2.6. | B44: PRERREQUISITOS | C44: Describir las condiciones previas necesarias para la ejecución del cambio (Ejemplo: autorizaciones, privilegios de usuarios, cambio de estado, etc.)
A45: 2.7. | B45: PLAN DE PRUEBAS POSTERIORES A LA IMPLEMENTACIÓN DEL CAMBIO | C45: Plan de Pruebas (técnicas y funcionales): Explique de manera detallada y secuencial la lista de actividades para determinar que el cambio fue implementado de manera exitosa
A46: 2.7.1. | B46: Actividades plan de pruebas | C46: Incluir las actividades desarrolladas en el plan de pruebas.
A47: 2.7.2. | B47: Fecha/Hora Inicio | C47: Incluir la fecha (en formato DD/MM/AAAA) y la hora (HH:MM) en la que se da inicio a la actividad del plan de pruebas
...

Sheet Formato_RFC
D1: FORMATO | O1: CÓDIGO: | Q1: F-TEC-0001
D2: REQUERIMIENTO DE CAMBIOS DE TECNOLOGÍAS DE INFORMACIÓN | O2: VERSIÓN: | Q2: 2
O3: CLASIFICACIÓN DE LA INFORMACIÓN: | Q3: PÚBLICA
A5: 1. INFORMACIÓN GENERAL - REGISTRO
A6: 1.1. Nro. RFC: | H6: 1.2. Fecha Solicitud: (DD-MM-AAAA) | M6: 1.3. Estado del Cambio: | P6: Seleccionar | R6: =IF(P6="Activo",3,IF(P6="En Ejecución",2,IF(P6="Cerrado",-1,"")))
A7: 1.4. Nro. Incidencia Relacionadas (ITOP):
A8: 1.5 Tipo de Categoría de Cambio: | D8: TECNOLÓGICO - INFRAESTRUCTURA TI | K8: FUNCIONAL - SISTEMAS DE INFORMACIÓN SGC
A9: 1.6. Nombre del Servicio de TI: | K9: 1.7. Nombre Sistema de Información o Aplicación(es):
A10: 1.6.1. Código del Servicio de TI: | K10: 1.7.1 ID. Sistema de Información:
A11: 1.8. DATOS DEL SOLICITANTE
A12: 1.8.1. Nombre del Solicitante /Requerido por | H12: 1.8.2. Rol del Solicitante | M12: 1.8.3. Tipo de solicitante | O12: Colaborador SGC | P12: Proveedor Tecnológico
A13: 1.8.4. Cargo del Solicitante: | J13: 1.8.5. Área / Dependencia: | O13: 1.8.6. Jefe /Coordinador/Director
A14: 1.8.7. Correo del Solicitante: | J14: 1.8.8. Nro. Ext del solicitante | O14: 1.8.9.Teléfono - Celular del solicitante
A15: 1.9. RECURSO HUMANO RESPONSABLE DEL CAMBIO
D16: Nombre | H16: Cargo /Rol | M16: Correo | P16: Teléfono
A17: 1.9.1. Líder del Cambio
A18: 1.9.2. Implementador(es) del cambio - Infraestructura TI:
A19: 1.9.3. Implementador (es) del cambio Sistemas de Información:
A20: 1.9.4. Funcional o dueño aplicativo misional - apoyo:
A21: 1.10. GESTIÓN DEL CONTROL CAMBIOS TECNOLÓGICOS
A22: 1.10.1. Tipo de Cambio: | D22: =IF(G22="","DEFINIR TIPO CAMBIO ESTÁNDAR","ESTÁNDAR") -> DEFINIR TIPO CAMBIO ESTÁNDAR | G22: =IF(Parámetros!K7=1,Parámetros!L7,"") | I22: =IF(L22="","DEFINIR TIPO CAMBIO NORMAL","NORMAL") -> NORMAL | L22: =IF(Parámetros!K7=2,Parámetros!L8,"") -> #VALUE! | N22: =IF(Q22="","DEFINIR TIPO CAMBIO EMERGENCIA","EMERGENCIA") -> DEFINIR TIPO CAMBIO EMERGENCIA | Q22: =IF(Parámetros!K7=3,Parámetros!L9,"")
A23: 1.10.2. Objetivo del Cambio:
A24: 1.10.3. Justificación del Cambio:
A25: 1.10.4. Descripción del Cambio:
A26: 1.10.5. Situación actual y razón del cambio:
A27: Descripción Especificación detallada del cambio (Técnica y Funcional) Nota: Si el cambio implica adicionalmente el ajuste y/o creación de nuevos roles y accesos, detallar.
A29: 2. ETAPA DE PLANIFICACIÓN Y EVALUACIÓN DEL CAMBIO DE TI
A30: 2.1. Servicios TI e Infraestructura afectados: | D30: 1 | K30: 4
D31: 2 | K31: 5
D32: 3 | K32: 6
A33: 2.2. ¿Afecta la Disponibilidad? | D33: SI | E33: NO | F33: 2.3. ¿Habrá Intermitencia? | I33: SI | J33: NO | K33: 2.4. ¿Requiere ejecutar plan de pruebas? | N33: SI | O33: NO
A34: 2.5. ¿Se requiere Comunicar a usuarios interesados? | D34: SI | E34: NO
A35: 2.6. PRERREQUISITOS
A36: 2.6.1. Describir las condiciones previas necesarias para la ejecución del cambio (Ejemplo: autorizaciones, privilegios de usuarios, cambio de estado, etc.)
A40: 2.7. PLAN DE PRUEBAS POSTERIORES A LA IMPLEMENTACIÓN DEL CAMBIO
A41: 2.7.0 Plan de Pruebas (técnicas y funcionales): Explique de manera detallada y secuencial la lista de actividades para determinar que el cambio fue implementado de manera satisfactoria
A42: 2.7.1. Actividades plan de pruebas | F42: 2.7.2. Fecha/Hora Inicio | K42: 2.7.3. Fecha/Hora finalización | O42: 2.7.4. Responsable | Q42: 2.7.5. Resultados
F43: DURACIÓN ACTIVIDAD (HH-MM-SS / DIAS | G43: FECHA | H43: HH:MM | K43: FECHA | N43: HH:MM
A44: 1 | F44: =N44-H44 -> 0
A45: 2 | F45: =N45-H45 -> 0
...

Sheet Matriz de Riesgos
B2: DIRECCIÓN DE GESTIÓN DE INFORMACIÓN - DGI
B3: GT - GESTIÓN DE PLATAFORMA DE TECNOLOGIAS DE INFORMACIÓN
B4: MATRIZ DE RIESGOS CONTROL DE CAMBIOS TECNOLÓGICOS
B6: Riesgo | E6: Probabilidad | F6: % Probabilidad | G6: Impacto | H6: % impacto | I6: Valoración del riesgo | J6: Prob x impacto | K6: Descripción del control
B7: 1. Afectación en la prestación del servicio por fallas en la gestión del cambio, debido a la falta de experiencia en la ejecución de este | E7: Muy baja | F7: =IF(E7=Parámetros!$C$7,Parámetros!$D$7,IF('Matriz de Riesgos'!E7=Parámetros!$C$8,Parámetros!$D$8,IF(E7=Parámetros!$C$9,Parámetros!$D$9,IF(E7=Parámetros!$C$10,Parámetros!$D$10,IF(E7=Parámetros!$C$11,Parámetros!$D$11,"Seleccione la probabilidad"))))) -> 20 | G7: Leve: El riesgo afecta la imagen de algún área de la organización. No existen servicios afectados por el cambio. | H7: =IF(G7=Parámetros!$C$15,Parámetros!$D$15,IF(G7=Parámetros!$C$16,Parámetros!$D$16,IF(G7=Parámetros!$C$17,Parámetros!$D$17,IF(G7=Parámetros!$C$18,Parámetros!$D$18,IF(G7=Parámetros!$C$19,Parámetros!$D$19,"Seleccione el impacto"))))) -> 20 | I7: =IF(OR(E7=0,G7=0),"Seleccione la probabilidad y el impacto",IF(AND(F7<=40,H7<=40),"Bajo",IF(AND(OR(F7=60,F7=80),H7>=20,H7<=40),"Moderado",IF(AND(F7<=60,H7=60),"Moderado",IF(AND(F7=100,OR(H7=20,H7=40)),"Alto",IF(AND(F7=80,H7=60),"Alto",IF(AND(F7=100,AND(H7>=20,H7<=80)),"Alto",IF(H7=80,"Mayor",IF(YI7=100,OR(F7=20,F7=40,F7=60,F7=80,F7=100),"Extremo"))))))))) -> Bajo | J7: =IFERROR(F7*H7,"") -> 400
B8: 2. Afectación en la prestación de los servicios por falla en los componentes de la infraestructura tecnológica que los soporta, debido a errores en el despliegue del cambio propuesto | E8: Muy baja | F8: =IF(E8=Parámetros!$C$7,Parámetros!$D$7,IF('Matriz de Riesgos'!E8=Parámetros!$C$8,Parámetros!$D$8,IF(E8=Parámetros!$C$9,Parámetros!$D$9,IF(E8=Parámetros!$C$10,Parámetros!$D$10,IF(E8=Parámetros!$C$11,Parámetros!$D$11,"Seleccione la probabilidad"))))) -> 20 | G8: Leve: El riesgo afecta la imagen de algún área de la organización. No existen servicios afectados por el cambio. | H8: =IF(G8=Parámetros!$C$15,Parámetros!$D$15,IF(G8=Parámetros!$C$16,Parámetros!$D$16,IF(G8=Parámetros!$C$17,Parámetros!$D$17,IF(G8=Parámetros!$C$18,Parámetros!$D$18,IF(G8=Parámetros!$C$19,Parámetros!$D$19,"Seleccione el impacto"))))) -> 20 | I8: =IF(OR(E8=0,G8=0),"Seleccione la probabilidad y el impacto",IF(AND(F8<=40,H8<=40),"Bajo",IF(AND(OR(F8=60,F8=80),H8>=20,H8<=40),"Moderado",IF(AND(F8<=60,H8=60),"Moderado",IF(AND(F8=100,OR(H8=20,H8=40)),"Alto",IF(AND(F8=80,H8=60),"Alto",IF(AND(F8=100,AND(H8>=20,H8<=80)),"Alto",IF(H8=80,"Mayor",IF(YI8=100,OR(F8=20,F8=40,F8=60,F8=80,F8=100),"Extremo"))))))))) -> Bajo | J8: =IFERROR(F8*H8,"") -> 400
B9: 3. Afectación en la prestación del servicio por dificultades presentadas durante la ejecución del cambio, debido a la complejidad técnica y funcional | E9: Muy baja | F9: =IF(E9=Parámetros!$C$7,Parámetros!$D$7,IF('Matriz de Riesgos'!E9=Parámetros!$C$8,Parámetros!$D$8,IF(E9=Parámetros!$C$9,Parámetros!$D$9,IF(E9=Parámetros!$C$10,Parámetros!$D$10,IF(E9=Parámetros!$C$11,Parámetros!$D$11,"Seleccione la probabilidad"))))) -> 20 | G9: Moderado: El riesgo afecta la imagen de la entidad con algunos grupos de valor. Se afecta más de un servicio. | H9: =IF(G9=Parámetros!$C$15,Parámetros!$D$15,IF(G9=Parámetros!$C$16,Parámetros!$D$16,IF(G9=Parámetros!$C$17,Parámetros!$D$17,IF(G9=Parámetros!$C$18,Parámetros!$D$18,IF(G9=Parámetros!$C$19,Parámetros!$D$19,"Seleccione el impacto"))))) -> 60 | I9: =IF(OR(E9=0,G9=0),"Seleccione la probabilidad y el impacto",IF(AND(F9<=40,H9<=40),"Bajo",IF(AND(OR(F9=60,F9=80),H9>=20,H9<=40),"Moderado",IF(AND(F9<=60,H9=60),"Moderado",IF(AND(F9=100,OR(H9=20,H9=40)),"Alto",IF(AND(F9=80,H9=60),"Alto",IF(AND(F9=100,AND(H9>=20,H9<=80)),"Alto",IF(H9=80,"Mayor",IF(YI9=100,OR(F9=20,F9=40,F9=60,F9=80,F9=100),"Extremo"))))))))) -> Moderado | J9: =IFERROR(F9*H9,"") -> 1200
B10: 4.Indisponibilidad de los servicios por afectación en la infraestructura de TI, debido a la no implementación del cambio | E10: Muy baja | F10: =IF(E10=Parámetros!$C$7,Parámetros!$D$7,IF('Matriz de Riesgos'!E10=Parámetros!$C$8,Parámetros!$D$8,IF(E10=Parámetros!$C$9,Parámetros!$D$9,IF(E10=Parámetros!$C$10,Parámetros!$D$10,IF(E10=Parámetros!$C$11,Parámetros!$D$11,"Seleccione la probabilidad"))))) -> 20 | G10: Mayor: El riesgo afecta la imagen de la entidad con efecto publicitario sostenido en el sector Minero a nivel departamental o municipal / Sede Regional. Se afecta más de un servicio. | H10: =IF(G10=Parámetros!$C$15,Parámetros!$D$15,IF(G10=Parámetros!$C$16,Parámetros!$D$16,IF(G10=Parámetros!$C$17,Parámetros!$D$17,IF(G10=Parámetros!$C$18,Parámetros!$D$18,IF(G10=Parámetros!$C$19,Parámetros!$D$19,"Seleccione el impacto"))))) -> 80 | I10: =IF(OR(E10=0,G10=0),"Seleccione la probabilidad y el impacto",IF(AND(F10<=40,H10<=40),"Bajo",IF(AND(OR(F10=60,F10=80),H10>=20,H10<=40),"Moderado",IF(AND(F10<=60,H10=60),"Moderado",IF(AND(F10=100,OR(H10=20,H10=40)),"Alto",IF(AND(F10=80,H10=60),"Alto",IF(AND(F10=100,AND(H10>=20,H10<=80)),"Alto",IF(H10=80,"Mayor",IF(YI10=100,OR(F10=20,F10=40,F10=60,F10=80,F10=100),"Extremo"))))))))) -> Mayor | J10: =IFERROR(F10*H10,"") -> 1600
B11: 5. Afectación en la prestación de los servicios por fallo en los compomentes de TI críticos para la entidad, debido a la ejecución del cambio propuesto | E11: Muy baja | F11: =IF(E11=Parámetros!$C$7,Parámetros!$D$7,IF('Matriz de Riesgos'!E11=Parámetros!$C$8,Parámetros!$D$8,IF(E11=Parámetros!$C$9,Parámetros!$D$9,IF(E11=Parámetros!$C$10,Parámetros!$D$10,IF(E11=Parámetros!$C$11,Parámetros!$D$11,"Seleccione la probabilidad"))))) -> 20 | G11: Leve: El riesgo afecta la imagen de algún área de la organización. No existen servicios afectados por el cambio. | H11: =IF(G11=Parámetros!$C$15,Parámetros!$D$15,IF(G11=Parámetros!$C$16,Parámetros!$D$16,IF(G11=Parámetros!$C$17,Parámetros!$D$17,IF(G11=Parámetros!$C$18,Parámetros!$D$18,IF(G11=Parámetros!$C$19,Parámetros!$D$19,"Seleccione el impacto"))))) -> 20 | I11: =IF(OR(E11=0,G11=0),"Seleccione la probabilidad y el impacto",IF(AND(F11<=40,H11<=40),"Bajo",IF(AND(OR(F11=60,F11=80),H11>=20,H11<=40),"Moderado",IF(AND(F11<=60,H11=60),"Moderado",IF(AND(F11=100,OR(H11=20,H11=40)),"Alto",IF(AND(F11=80,H11=60),"Alto",IF(AND(F11=100,AND(H11>=20,H11<=80)),"Alto",IF(H11=80,"Mayor",IF(YI11=100,OR(F11=20,F11=40,F11=60,F11=80,F11=100),"Extremo"))))))))) -> Bajo | J11: =IFERROR(F11*H11,"") -> 400
B12: 6. Indisponibilidad de los servicios por fallas generadas en la ejecución del cambio propuesto debido a la carencia de un medio de contingencia para mitigar el impacto | E12: Muy baja | F12: =IF(E12=Parámetros!$C$7,Parámetros!$D$7,IF('Matriz de Riesgos'!E12=Parámetros!$C$8,Parámetros!$D$8,IF(E12=Parámetros!$C$9,Parámetros!$D$9,IF(E12=Parámetros!$C$10,Parámetros!$D$10,IF(E12=Parámetros!$C$11,Parámetros!$D$11,"Seleccione la probabilidad"))))) -> 20 | G12: Leve: El riesgo afecta la imagen de algún área de la organización. No existen servicios afectados por el cambio. | H12: =IF(G12=Parámetros!$C$15,Parámetros!$D$15,IF(G12=Parámetros!$C$16,Parámetros!$D$16,IF(G12=Parámetros!$C$17,Parámetros!$D$17,IF(G12=Parámetros!$C$18,Parámetros!$D$18,IF(G12=Parámetros!$C$19,Parámetros!$D$19,"Seleccione el impacto"))))) -> 20 | I12: =IF(OR(E12=0,G12=0),"Seleccione la probabilidad y el impacto",IF(AND(F12<=40,H12<=40),"Bajo",IF(AND(OR(F12=60,F12=80),H12>=20,H12<=40),"Moderado",IF(AND(F12<=60,H12=60),"Moderado",IF(AND(F12=100,OR(H12=20,H12=40)),"Alto",IF(AND(F12=80,H12=60),"Alto",IF(AND(F12=100,AND(H12>=20,H12<=80)),"Alto",IF(H12=80,"Mayor",IF(YI12=100,OR(F12=20,F12=40,F12=60,F12=80,F12=100),"Extremo"))))))))) -> Bajo | J12: =IFERROR(F12*H12,"") -> 400
E15: Riesgo Total | F15: =IFERROR(IF(AND($F$21>=400,$F$21<=600),"BAJO",IF(AND($F$21>=601,F21<=4000),"MODERADO",IF(AND($F$21>=4001,$F$21<=7999),"ALTO","EXTREMO"))),"Seleecionar") -> BAJO
E17: Bajo | F17: 400-600
E18: Moderado | F18: 601-4000
E19: alto | F19: 4001-7999
E20: Extremo | F20: 8000-10000
E21: Mediana | F21: =MEDIAN(J7:J12) -> 400
A26: 4. PLAN Y GESTIÓN DE RIESGOS / MATRIZ DE IMPACTO VS RIESGOS PRIORIDAD E IMPACTO DEL CAMBIO
A27: 4.1. Riesgo (Validar Matriz de Impacto Vs. Riesgo): | F27: ='Matriz de Riesgos'!$F$15 -> BAJO
A29: 4.2. Urgencia | B29: 4.2.1. Clasificación | D29: 4.2.2. Descripción
B30: BAJO | C30: FALSE | D30: El cambio es requerido para implementar una nueva funcionalidad, mejora o mantenimiento preventivo.
B31: MEDIO | C31: FALSE | D31: El cambio es requerido para resolver un incidente o problema que está causando Intermitencia o degradación del servicio.
B32: ALTO | C32: FALSE | D32: El cambio es requerido para resolver un incidente o problema que está causando Indisponibilidad total del servicio, es un tema regulatorio o es para implementar-modificar una funcionalidad donde están involucrados usuarios VIP, o involucra un servicio crítico para la continuidad del negocio.
A33: 4.3. Análisis del Impacto del Cambio: | B33: Detalle la línea base de los componentes y grupo de personas que se van a ver afectados por el cambio. El Impacto se valora de acuerdo a lo más significante de estos tres componentes: | F33: 4.3.1. CIs (Ítems de configuración) | G33: 4.3.2. Clasificación | I33: 4.3.3. Descripción | K33: 4.4.1. Personas Afectadas/Impactadas: | L33: 4.4.2. Clasificación | O33: 4.4.3. Descripción
G34: BAJO | H34: FALSE | I34: 1 CIs. | L34: BAJO | N34: FALSE | O34: El cambio afecta entre 0 y 10 Personas.
G35: MEDIO | H35: FALSE | I35: 2 CIs | L35: MEDIO | N35: FALSE | O35: El cambio afecta entre 11 y 20 Personas.
G36: ALTO | H36: FALSE | I36: 3 o más CIs | L36: ALTO | N36: FALSE | O36: El cambio afecta más de 20 Personas.
A37: 4.5. Probabilidad: | B37: 4.5.1. Clasificación | D37: 4.5.2. Descripción: Analizar la probabilidad de que sean afectados los servicios o CIs involucrados en el cambio
B38: BAJO | C38: FALSE | D38: En los últimos 12 Meses se ha tenido interrupción, pérdida o degradación del servicio o la información por causa de este tipo de cambios 1 o ninguna vez.
B39: MEDIO | C39: FALSE | D39: En los últimos 12 Meses se ha tenido interrupción, pérdida o degradación del servicio o la información del servicio por causa de este tipo de cambios entre 2 y 3 veces.
B40: ALTO | C40: FALSE | D40: En los últimos 12 Meses se ha tenido interrupción, pérdida o degradación del servicio o la información del servicio por causa de este tipo de cambios más de 4 veces.
G43: Volver al Formato_RFC-Cambio Tecnológico
A45: URGENCIA : | B45: =IF(C30=TRUE,"BAJO",IF(C31=TRUE,"MEDIO",IF(C32=TRUE,"ALTO","Seleccione hoja:""Matriz de Riesgos"))) -> Seleccione hoja:"Matriz de Riesgos | C45: =IF(B45="Bajo",D30,IF(B45="MEDIO",D31,IF(B45="ALTO",D32,"Seleccione hoja:""Matriz de Riesgos - Descripción"))) -> Seleccione hoja:"Matriz de Riesgos - Descripción
A47: Análisis del Impacto del Cambio: | B47: =IF(H34=TRUE,"BAJO",IF(H35=TRUE,"MEDIO",IF(H36=TRUE,"ALTO","Seleccione hoja:""Matriz de Riesgos"))) -> Seleccione hoja:"Matriz de Riesgos | C47: =IF(B47="Bajo",I34,IF(B47="MEDIO",I35,IF(B47="ALTO",I36,"Seleccione hoja:""Matriz de Riesgos - Descripción"))) -> Seleccione hoja:"Matriz de Riesgos - Descripción
A49: Personas Afectadas/Impactadas: | B49: =IF(N34=TRUE,"BAJO",IF(N35=TRUE,"MEDIO",IF(N36=TRUE,"ALTO","Seleccione hoja:""Matriz de Riesgos"))) -> Seleccione hoja:"Matriz de Riesgos | C49: =IF(B49="Bajo",O34,IF(B49="MEDIO",O35,IF(B49="ALTO",O36,"Seleccione hoja:""Matriz de Riesgos - Descripción"))) -> Seleccione hoja:"Matriz de Riesgos - Descripción
A51: PROBABILIDAD: | B51: =IF(C38=TRUE,"BAJO",IF(C39=TRUE,"MEDIO",IF(C40=TRUE,"ALTO","Seleccione hoja:""Matriz de Riesgos"))) -> Seleccione hoja:"Matriz de Riesgos | C51: =IF(B49="Bajo",D38,IF(B49="MEDIO",D39,IF(B49="ALTO",D40,"Seleccione hoja:""Matriz de Riesgos - Descripción"))) -> Seleccione hoja:"Matriz de Riesgos - Descripción
B70: PÁSAR URGENCIA
B72: COMENTARIO EN CADA CELDA - INSTRUCTIVO
B74: ESTADO DEL CONTROL DE CAMBIOS RFC
B75: ACTIVO
B76: CERRADO

Sheet Parámetros
B2: DIRECCIÓN DE GESTIÓN DE INFORMACIÓN - DGI
B3: GT - GESTIÓN DE PLATAFORMA DE TECNOLOGIAS DE INFORMACIÓN
B4: MATRIZ DE PARÁMETROS CONTROL DE CAMBIOS TECNOLÓGICOS
C6: Probabilidad | D6: % | F6: Riesgo | G6: Valor Riesgo | K6: tipo de cambios
C7: Muy baja | D7: 20 | F7: BAJO | G7: 1 | K7: 2 | L7: #VALUE! | N7: #VALUE!
C8: Baja | D8: 40 | F8: MODERADO | G8: 2 | L8: #VALUE! | N8: #VALUE!
C9: Media | D9: 60 | F9: ALTO | G9: 3 | L9: #VALUE! | N9: #VALUE!
C10: Alta | D10: 80 | F10: EXTREMO | G10: 4
C11: Muy alta | D11: 100
C14: Impacto | D14: % | F14: Nivel de Impacto | G14: Afectación Reputacional
C15: Leve: El riesgo afecta la imagen de algún área de la organización. No existen servicios afectados por el cambio. | D15: 20 | F15: Leve 20% | G15: El riesgo afecta la imagen de algún área de la Entidad
C16: Menor: El riesgo afecta la imagen de la entidad internamente. Se afecta un servicio | D16: 40 | F16: Menor 40% | G16: El riesgo afecta la imagen de la Entidad Internamente
C17: Moderado: El riesgo afecta la imagen de la entidad con algunos grupos de valor. Se afecta más de un servicio. | D17: 60 | F17: Moderado 60% | G17: El riesgo afecta la imagen de la Entidad con algunos grupos de valor o interes
C18: Mayor: El riesgo afecta la imagen de la entidad con efecto publicitario sostenido en el sector Minero a nivel departamental o municipal / Sede Regional. Se afecta más de un servicio. | D18: 80 | F18: Mayor 80% | G18: El riesgo afecta la imagen de la Entidad con efecto publicitario sostenido en el sector minero a nivel departamental, regional, o sedes del SGC
C19: Catastrófico: el riesgo afecta la imagen de la entidad con efecto publicitario sostenido en el sector Minero a nivel nacional. Se afectan todos los servicios. | D19: 100 | F19: Castastrófico 100% | G19: El riesgo afecta la imagen de la Entidad con efecto publicitario sostenido en el sector minero a nivel nacional.
